BEGIN:VCALENDAR
VERSION:2.0
PRODID:-//Flamstead Parish Council - ECPv6.15.20//NONSGML v1.0//EN
CALSCALE:GREGORIAN
METHOD:PUBLISH
X-WR-CALNAME:Flamstead Parish Council
X-ORIGINAL-URL:https://flamsteadparishcouncil.gov.uk
X-WR-CALDESC:Events for Flamstead Parish Council
REFRESH-INTERVAL;VALUE=DURATION:PT1H
X-Robots-Tag:noindex
X-PUBLISHED-TTL:PT1H
BEGIN:VTIMEZONE
TZID:Europe/London
BEGIN:DAYLIGHT
TZOFFSETFROM:+0000
TZOFFSETTO:+0100
TZNAME:BST
DTSTART:20250330T010000
END:DAYLIGHT
BEGIN:STANDARD
TZOFFSETFROM:+0100
TZOFFSETTO:+0000
TZNAME:GMT
DTSTART:20251026T010000
END:STANDARD
BEGIN:DAYLIGHT
TZOFFSETFROM:+0000
TZOFFSETTO:+0100
TZNAME:BST
DTSTART:20260329T010000
END:DAYLIGHT
BEGIN:STANDARD
TZOFFSETFROM:+0100
TZOFFSETTO:+0000
TZNAME:GMT
DTSTART:20261025T010000
END:STANDARD
BEGIN:DAYLIGHT
TZOFFSETFROM:+0000
TZOFFSETTO:+0100
TZNAME:BST
DTSTART:20270328T010000
END:DAYLIGHT
BEGIN:STANDARD
TZOFFSETFROM:+0100
TZOFFSETTO:+0000
TZNAME:GMT
DTSTART:20271031T010000
END:STANDARD
END:VTIMEZONE
BEGIN:VEVENT
DTSTART;TZID=Europe/London:20260202T143000
DTEND;TZID=Europe/London:20260202T163000
DTSTAMP:20260420T132000
CREATED:20260111T122457Z
LAST-MODIFIED:20260111T122457Z
UID:4212-1770042600-1770049800@flamsteadparishcouncil.gov.uk
SUMMARY:Tea and Chat SW
DESCRIPTION:
URL:https://flamsteadparishcouncil.gov.uk/event/tea-and-chat-sw-3
LOCATION:The Pavilion (Recreation Ground)\, Friendless Lane\, Flamstead
CATEGORIES:Local Event
ORGANIZER;CN="Sally Wagon":MAILTO:sallywagon@hotmail.com
END:VEVENT
END:VCALENDAR