BEGIN:VCALENDAR
VERSION:2.0
PRODID:-//Flamstead Parish Council - ECPv6.15.20//NONSGML v1.0//EN
CALSCALE:GREGORIAN
METHOD:PUBLISH
X-ORIGINAL-URL:https://flamsteadparishcouncil.gov.uk
X-WR-CALDESC:Events for Flamstead Parish Council
REFRESH-INTERVAL;VALUE=DURATION:PT1H
X-Robots-Tag:noindex
X-PUBLISHED-TTL:PT1H
BEGIN:VTIMEZONE
TZID:Europe/London
BEGIN:DAYLIGHT
TZOFFSETFROM:+0000
TZOFFSETTO:+0100
TZNAME:BST
DTSTART:20250330T010000
END:DAYLIGHT
BEGIN:STANDARD
TZOFFSETFROM:+0100
TZOFFSETTO:+0000
TZNAME:GMT
DTSTART:20251026T010000
END:STANDARD
BEGIN:DAYLIGHT
TZOFFSETFROM:+0000
TZOFFSETTO:+0100
TZNAME:BST
DTSTART:20260329T010000
END:DAYLIGHT
BEGIN:STANDARD
TZOFFSETFROM:+0100
TZOFFSETTO:+0000
TZNAME:GMT
DTSTART:20261025T010000
END:STANDARD
BEGIN:DAYLIGHT
TZOFFSETFROM:+0000
TZOFFSETTO:+0100
TZNAME:BST
DTSTART:20270328T010000
END:DAYLIGHT
BEGIN:STANDARD
TZOFFSETFROM:+0100
TZOFFSETTO:+0000
TZNAME:GMT
DTSTART:20271031T010000
END:STANDARD
END:VTIMEZONE
BEGIN:VEVENT
DTSTART;VALUE=DATE:20260409
DTEND;VALUE=DATE:20260412
DTSTAMP:20260419T193411
CREATED:20260222T122711Z
LAST-MODIFIED:20260222T122711Z
UID:4294-1775692800-1775951999@flamsteadparishcouncil.gov.uk
SUMMARY:Tea Room - NS
DESCRIPTION:
URL:https://flamsteadparishcouncil.gov.uk/event/tea-room-ns
LOCATION:The Pavilion (Recreation Ground)\, Friendless Lane\, Flamstead
CATEGORIES:Local Event
ORGANIZER;CN="Nicky Sanders":MAILTO:snowy-owl73@hotmail.co.uk
END:VEVENT
BEGIN:VEVENT
DTSTART;VALUE=DATE:20260411
DTEND;VALUE=DATE:20260412
DTSTAMP:20260419T193411
CREATED:20260222T122924Z
LAST-MODIFIED:20260222T122924Z
UID:4300-1775865600-1775951999@flamsteadparishcouncil.gov.uk
SUMMARY:Tea Room - NS
DESCRIPTION:
URL:https://flamsteadparishcouncil.gov.uk/event/tea-room-ns-3
LOCATION:The Pavilion (Recreation Ground)\, Friendless Lane\, Flamstead
CATEGORIES:Local Event
END:VEVENT
END:VCALENDAR